BEGIN:VCALENDAR
VERSION:2.0
PRODID:-//eventon.com NONSGML v1.0//EN
CALSCALE:GREGORIAN
METHOD:PUBLISH
BEGIN:VEVENT
UID:69e703930b6d5
DTSTAMP:20260421T045651Z
DTSTART:20260525T080000Z
DTEND:20260525T100000Z
LOCATION:
SUMMARY:Corinda State High School
DESCRIPTION:Corinda State High School: 46 Pratten St\,  Corinda QLD 4075 En
 trance to the sports fields from Prattern st. Actual scope setup area will 
 be on the rear Main Oval. Official start time is 7:00pm. Ending around 8pm\
 ,  or a little later. https://maps.app.goo.gl/awshdz8zNjWsNUok9\nhttps://ba
 s.asn.au/events/corinda-state-high-school/
URL:https://bas.asn.au/events/corinda-state-high-school/
END:VEVENT
END:VCALENDAR