BEGIN:VCALENDAR
VERSION:2.0
PRODID:-//eventon.com NONSGML v1.0//EN
CALSCALE:GREGORIAN
METHOD:PUBLISH
BEGIN:VEVENT
UID:69e74c47e138e
DTSTAMP:20260421T100703Z
DTSTART:20241021T093000Z
DTEND:20241021T103000Z
LOCATION:
SUMMARY:BAS 2024 AGM
DESCRIPTION:BAS 2024 Annual General Meeting. Monday October 21st\,  7:30pm 
 start via Zoom Here is the link to join the Zoom meeting:https://us06web.zo
 om.us/j/86463839342?pwd=jQvU7PdFJqOub9HZb5uJdca0Q3JC44.1 Here are links to 
 the proposed meeting agenda and minutes of the 2023 AGM:2024 AGM agenda: ht
 tps://bas.asn.au/wp-content/uploads/Agenda-2024-BAS-AGM-Annual-General-Meet
 ing.pdf2023 AGM Minutes: https://bas.asn.au/wp-content/uploads/BAS-AGM-Minu
 tes-September-25-2023.pdf The BAS Management Committee is always keen to we
 lcome[..]\nhttps://bas.asn.au/events/bas-2024-agm/
URL:https://bas.asn.au/events/bas-2024-agm/
END:VEVENT
END:VCALENDAR